BEGIN:VCALENDAR
VERSION:2.0
PRODID:-//Spiritualist Church of Australia - ECPv4.8.1//NONSGML v1.0//EN
CALSCALE:GREGORIAN
METHOD:PUBLISH
X-WR-CALNAME:Spiritualist Church of Australia
X-ORIGINAL-URL:http://spiritualist-church.org.au
X-WR-CALDESC:Events for Spiritualist Church of Australia
BEGIN:VEVENT
DTSTART;TZID=Australia/Sydney:20190308T193000
DTEND;TZID=Australia/Sydney:20190308T210000
DTSTAMP:20190227T141253
CREATED:20190216T234944Z
LAST-MODIFIED:20190216T234944Z
UID:1300-1552073400-1552078800@spiritualist-church.org.au
SUMMARY:North Shore Service
DESCRIPTION:Come join us for song\, meditation and healing @ Premises of St John’ Uniting Church\, 49a Yeo Street Neutral Bay\, New South Wales\, Australia (use Barry Street entrance) \n
URL:http://spiritualist-church.org.au/index.php/event/north-shore-service-2/
LOCATION:St John’ Uniting Church\, 49a Yeo Street\, Neutral Bay\, NSW\, 2089\, Australia
END:VEVENT
END:VCALENDAR