BEGIN:VCALENDAR
VERSION:2.0
PRODID:-//Spiritualist Church of Australia - ECPv4.9.8//NONSGML v1.0//EN
CALSCALE:GREGORIAN
METHOD:PUBLISH
X-WR-CALNAME:Spiritualist Church of Australia
X-ORIGINAL-URL:http://spiritualist-church.org.au
X-WR-CALDESC:Events for Spiritualist Church of Australia
BEGIN:VTIMEZONE
TZID:Australia/Sydney
BEGIN:STANDARD
TZOFFSETFROM:+1100
TZOFFSETTO:+1000
TZNAME:AEST
DTSTART:20190406T160000
END:STANDARD
BEGIN:DAYLIGHT
TZOFFSETFROM:+1000
TZOFFSETTO:+1100
TZNAME:AEDT
DTSTART:20191005T160000
END:DAYLIGHT
END:VTIMEZONE
BEGIN:VEVENT
DTSTART;TZID="Australia/Sydney":20190817T140000
DTEND;TZID="Australia/Sydney":20190817T170000
DTSTAMP:20200227T111113
CREATED:20190710T112245Z
LAST-MODIFIED:20190710T112454Z
UID:1552-1566050400-1566061200@spiritualist-church.org.au
SUMMARY:Art Fundraiser
DESCRIPTION:Learn how to paint fundraiser\, all supplies included. \n
URL:http://spiritualist-church.org.au/index.php/event/art-fundraiser/
LOCATION:Sydney Lifestyle Village\, 30 Majestic Drive\, Stanhope Gardens\, NSW\, 2768\, Australia
CATEGORIES:Workshop
ATTACH;FMTTYPE=image/png:http://spiritualist-church.org.au/wp-content/uploads/2019/07/learn-how-to-cook.png
END:VEVENT
END:VCALENDAR